BEGIN:VCALENDAR
VERSION:2.0
PRODID:-//Woman&#039;s Club of Springfield - ECPv6.15.20//NONSGML v1.0//EN
CALSCALE:GREGORIAN
METHOD:PUBLISH
X-ORIGINAL-URL:https://womansclubofspringfield.org
X-WR-CALDESC:Events for Woman&#039;s Club of Springfield
REFRESH-INTERVAL;VALUE=DURATION:PT1H
X-Robots-Tag:noindex
X-PUBLISHED-TTL:PT1H
BEGIN:VTIMEZONE
TZID:America/New_York
BEGIN:DAYLIGHT
TZOFFSETFROM:-0500
TZOFFSETTO:-0400
TZNAME:EDT
DTSTART:20250309T070000
END:DAYLIGHT
BEGIN:STANDARD
TZOFFSETFROM:-0400
TZOFFSETTO:-0500
TZNAME:EST
DTSTART:20251102T060000
END:STANDARD
BEGIN:DAYLIGHT
TZOFFSETFROM:-0500
TZOFFSETTO:-0400
TZNAME:EDT
DTSTART:20260308T070000
END:DAYLIGHT
BEGIN:STANDARD
TZOFFSETFROM:-0400
TZOFFSETTO:-0500
TZNAME:EST
DTSTART:20261101T060000
END:STANDARD
BEGIN:DAYLIGHT
TZOFFSETFROM:-0500
TZOFFSETTO:-0400
TZNAME:EDT
DTSTART:20270314T070000
END:DAYLIGHT
BEGIN:STANDARD
TZOFFSETFROM:-0400
TZOFFSETTO:-0500
TZNAME:EST
DTSTART:20271107T060000
END:STANDARD
END:VTIMEZONE
BEGIN:VEVENT
DTSTART;TZID=America/New_York:20260310T183000
DTEND;TZID=America/New_York:20260310T203000
DTSTAMP:20260419T133613
CREATED:20250731T203012Z
LAST-MODIFIED:20250731T203012Z
UID:10832-1773167400-1773174600@womansclubofspringfield.org
SUMMARY:March 10\, 2026: General Membership Meeting Program: Women's History Month\, Guest Speaker
DESCRIPTION:
URL:https://womansclubofspringfield.org/event/march-10-2026-general-membership-meeting-program-womens-history-month-guest-speaker/
LOCATION:Prince of Peace Lutheran Church\, 8304 Old Keene Mill Road\, Springfield\, VA\, 22152\, United States
CATEGORIES:General Membership Monthly Meeting,Scholarship and Awards Dinner
END:VEVENT
BEGIN:VEVENT
DTSTART;TZID=America/New_York:20260327T100000
DTEND;TZID=America/New_York:20260327T120000
DTSTAMP:20260419T133613
CREATED:20250801T200806Z
LAST-MODIFIED:20250801T200806Z
UID:10834-1774605600-1774612800@womansclubofspringfield.org
SUMMARY:March 27\, 2026: Executive Board Meeting Venue: Shirley's House
DESCRIPTION:
URL:https://womansclubofspringfield.org/event/march-27-2026-executive-board-meeting-venue-shirleys-house/
LOCATION:Shirley’s House
CATEGORIES:Executive Board Meeting
END:VEVENT
END:VCALENDAR